BEGIN:VCALENDAR
VERSION:2.0
METHOD:PUBLISH
CALSCALE:GREGORIAN
PRODID:-//Refresh Web Development//Helios Calendar//EN
X-FROM-URL:http://www.cdaonline.com/cda-events-calendar/events/index.php?com=details&eID=1167
X-WR-RELCALID:Coeur d'Alene, Idaho - Events Calendar Raspberry Pi from Scratch Pt 1 (Girls Only!) 20150727T093000
X-WR-TIMEZONE:America/Los_Angeles
X-WR-CALNAME:Raspberry Pi from Scratch Pt 1 (Girls Only!)
BEGIN:VEVENT
URL;VALUE=URI:http://www.cdaonline.com/cda-events-calendar/events/index.php?com=detail&eID=1167
DTSTART:20150727T093000
DTEND:20150727T150000
SUMMARY:Raspberry Pi from Scratch Pt 1 (Girls Only!)
DESCRIPTION:Raspberry   Pi Part 1                                              Build your own computer with the Raspberry Pi board.  Use Scratch programing to get you started   and move on to Arduinos to make things light up and move.  Plus\, make an actual Raspberry Pie from   Scratch!Daily July 27-31\,  9:30 am - 3:00 pm\, 6th grade and older\,  $160\n______________________________\nThis Event Downloaded From a Helios Calendar Powered Site
LOCATION:Gizmo-CdA - 806 N. 4th St. \, Coeur d'Alene\, ID USA 83814
CATEGORIES:Coeur d'Alene, Idaho - Events Calendar Events
PRIORITY:0
TRANSP:TRANSPARENT
END:VEVENT
END:VCALENDAR