BEGIN:VCALENDAR
VERSION:2.0
METHOD:PUBLISH
CALSCALE:GREGORIAN
PRODID:-//Refresh Web Development//Helios Calendar//EN
X-FROM-URL:http://www.cdaonline.com/cda-events-calendar/events/index.php?com=details&eID=1186
X-WR-RELCALID:Coeur d'Alene, Idaho - Events Calendar Jewelry Immersion 20150807T093000
X-WR-TIMEZONE:America/Los_Angeles
X-WR-CALNAME:Jewelry Immersion
BEGIN:VEVENT
URL;VALUE=URI:http://www.cdaonline.com/cda-events-calendar/events/index.php?com=detail&eID=1186
DTSTART:20150807T093000
DTEND:20150807T150000
SUMMARY:Jewelry Immersion
DESCRIPTION:Become   your own jewelry designer.  Learn   Unique techniques and embellish your personal lookDaily Aug 3-7\, 9:30 am - 3:00 pm\,  5th grade and older\,  $160\n______________________________\nThis Event Downloaded From a Helios Calendar Powered Site
LOCATION:Gizmo-CdA - 806 N. 4th St. \, Coeur d'Alene\, ID USA 83814
CATEGORIES:Coeur d'Alene, Idaho - Events Calendar Events
PRIORITY:0
TRANSP:TRANSPARENT
END:VEVENT
END:VCALENDAR