BEGIN:VCALENDAR
VERSION:2.0
METHOD:PUBLISH
CALSCALE:GREGORIAN
PRODID:-//Refresh Web Development//Helios Calendar//EN
X-FROM-URL:http://www.cdaonline.com/cda-events-calendar/events/index.php?com=details&eID=1205
X-WR-RELCALID:Coeur d'Alene, Idaho - Events Calendar Design a Set, Build a Set, Make a Movie 20150824T093000
X-WR-TIMEZONE:America/Los_Angeles
X-WR-CALNAME:Design a Set, Build a Set, Make a Movie
BEGIN:VEVENT
URL;VALUE=URI:http://www.cdaonline.com/cda-events-calendar/events/index.php?com=detail&eID=1205
DTSTART:20150824T093000
DTEND:20150824T150000
SUMMARY:Design a Set\, Build a Set\, Make a Movie
DESCRIPTION:Share your vision through building your set\, creating your characters and then making your movie. Ending with a student film festival that will be opened to the public. Learn to wire for light and motion as well as time in the wood shop to create your extraveganza.Daily Aug 24-28\, 9:30 am - 3:00 pm\, 4th grade and older\, $160\n______________________________\nThis Event Downloaded From a Helios Calendar Powered Site
LOCATION:Gizmo-CdA - 806 N. 4th St. \, Coeur d'Alene\, ID USA 83814
CATEGORIES:Coeur d'Alene, Idaho - Events Calendar Events
PRIORITY:0
TRANSP:TRANSPARENT
END:VEVENT
END:VCALENDAR