BEGIN:VCALENDAR
VERSION:2.0
METHOD:PUBLISH
CALSCALE:GREGORIAN
PRODID:-//Refresh Web Development//Helios Calendar//EN
X-FROM-URL:http://www.cdaonline.com/cda-events-calendar/events/index.php?com=details&eID=1220
X-WR-RELCALID:Coeur d'Alene, Idaho - Events Calendar Cabela's Ladies Day Out 20151010T080000
X-WR-TIMEZONE:America/Los_Angeles
X-WR-CALNAME:Cabela's Ladies Day Out
BEGIN:VEVENT
URL;VALUE=URI:http://www.cdaonline.com/cda-events-calendar/events/index.php?com=detail&eID=1220
DTSTART:20151010T080000
DTEND:20151010T130000
SUMMARY:Cabela's Ladies Day Out
DESCRIPTION:Hunting\, fishing\, and camping events geared for women\, taught by women. First 100 ladies through the door receive a free gift!\n______________________________\nThis Event Downloaded From a Helios Calendar Powered Site
LOCATION:Cabela's - 101 North Cabela Way \, Post Falls\, ID US 83854
CATEGORIES:Coeur d'Alene, Idaho - Events Calendar Events
PRIORITY:0
TRANSP:TRANSPARENT
END:VEVENT
END:VCALENDAR