BEGIN:VCALENDAR
VERSION:2.0
METHOD:PUBLISH
CALSCALE:GREGORIAN
PRODID:-//Refresh Web Development//Helios Calendar//EN
X-FROM-URL:http://www.cdaonline.com/cda-events-calendar/events/index.php?com=details&eID=1221
X-WR-RELCALID:Coeur d'Alene, Idaho - Events Calendar Ales for the Trail 20150815T140000
X-WR-TIMEZONE:America/Los_Angeles
X-WR-CALNAME:Ales for the Trail
BEGIN:VEVENT
URL;VALUE=URI:http://www.cdaonline.com/cda-events-calendar/events/index.php?com=detail&eID=1221
DTSTART:20150815T140000
DTEND:20150815T200000
SUMMARY:Ales for the Trail
DESCRIPTION:The North Idaho Centennial Trail is holding its 3rd annual Ales for the Trail Microbrew Festival on Saturday\, August 15 from 2 p.m. to 8 p.m. at McEuen Park in downtown Coeur d'Alene. The festival is sponsored by Pilgrim's Market and has drawn 12 of the region's finest craft brewers\, live music from Strange Brew\, food and FUN in the park. Tickets are $30 and are available for purchase now through Eventbrite - Just log on to www.nictf.org or visit Ales for the Trail on Facebook. Entry includes 6 – 5 oz. pours of craft beer\, interaction with the brewery representatives\, live music by Strange Brew and a stainless steel Chug Mug to the first 350 registrants. We will run out of Chug Mugs\, so sign up early! All proceeds go to the North Idaho Centennial Trail Foundation whose mission is to preserve and develop the North Idaho Centennial Trail System and promote trail connectivity throughout North Idaho.\n______________________________\nThis Event Downloaded From a Helios Calendar Powered Site
LOCATION:McEuen Park - Front Ave \, Coeur d'Alene\, ID Kootenai 83814
CATEGORIES:Coeur d'Alene, Idaho - Events Calendar Events
PRIORITY:0
TRANSP:TRANSPARENT
END:VEVENT
END:VCALENDAR