BEGIN:VCALENDAR
VERSION:2.0
METHOD:PUBLISH
CALSCALE:GREGORIAN
PRODID:-//Refresh Web Development//Helios Calendar//EN
X-FROM-URL:http://www.cdaonline.com/cda-events-calendar/events/index.php?com=details&eID=1277
X-WR-RELCALID:Coeur d'Alene, Idaho - Events Calendar Beginning Laser Cutting and Engraving - 1 Day Class, Tuesday November 17 , December 8 or January 12 20151117T180000
X-WR-TIMEZONE:America/Los_Angeles
X-WR-CALNAME:Beginning Laser Cutting and Engraving - 1 Day Class, Tuesday November 17 , December 8 or January 12
BEGIN:VEVENT
URL;VALUE=URI:http://www.cdaonline.com/cda-events-calendar/events/index.php?com=detail&eID=1277
DTSTART:20151117T180000
DTEND:20151117T210000
SUMMARY:Beginning Laser Cutting and Engraving - 1 Day Class\, Tuesday November 17 \, December 8 or January 12
DESCRIPTION: Using editing software this one day class will give you a basic understanding on how to run a laser engraver/cutter and how to design projects for the machine.  It will allow you to see what is possible. WARN!!!  WORKING WITH A LASER CUTTER IS ADDICTIVE  1 Day November 17th or  December 8th or January 12th  6:00 - 9:00 pm$30 non-members $25.50 members \n______________________________\nThis Event Downloaded From a Helios Calendar Powered Site
LOCATION:Gizmo-CdA - 806 N 4th St \, Coeur d'Alene\, ID  83814
CATEGORIES:Coeur d'Alene, Idaho - Events Calendar Events
PRIORITY:0
TRANSP:TRANSPARENT
END:VEVENT
END:VCALENDAR