BEGIN:VCALENDAR
VERSION:2.0
METHOD:PUBLISH
CALSCALE:GREGORIAN
PRODID:-//Refresh Web Development//Helios Calendar//EN
X-FROM-URL:http://www.cdaonline.com/cda-events-calendar/events/index.php?com=details&eID=1279
X-WR-RELCALID:Coeur d'Alene, Idaho - Events Calendar UV Printing - 1 Day Class Wednesday November 18 or December 9, 6 - 9 PM 20151118T180000
X-WR-TIMEZONE:America/Los_Angeles
X-WR-CALNAME:UV Printing - 1 Day Class Wednesday November 18 or December 9, 6 - 9 PM
BEGIN:VEVENT
URL;VALUE=URI:http://www.cdaonline.com/cda-events-calendar/events/index.php?com=detail&eID=1279
DTSTART:20151118T180000
DTEND:20151118T210000
SUMMARY:UV Printing - 1 Day Class Wednesday November 18 or December 9\, 6 - 9 PM
DESCRIPTION: This one day class will give you a basic understanding of how to put images on glass\, metal\, wood\, tiles. plastic even ping pong balls!  It will allow you to see what is possible.   Go through the steps to create one of a kind projects with this new tool!Non-members $30Members $25.50 \n______________________________\nThis Event Downloaded From a Helios Calendar Powered Site
LOCATION:Gizmo-CdA - 806 N 4th St \, Coeur d'Alene\, ID USA 83814
CATEGORIES:Coeur d'Alene, Idaho - Events Calendar Events
PRIORITY:0
TRANSP:TRANSPARENT
END:VEVENT
END:VCALENDAR