BEGIN:VCALENDAR
VERSION:2.0
METHOD:PUBLISH
CALSCALE:GREGORIAN
PRODID:-//Refresh Web Development//Helios Calendar//EN
X-FROM-URL:http://www.cdaonline.com/cda-events-calendar/events/index.php?com=details&eID=1281
X-WR-RELCALID:Coeur d'Alene, Idaho - Events Calendar Don't Buy It - BUILD IT! Santa's Workshop Membership starts Black Friday, November 27 20151127T130000
X-WR-TIMEZONE:America/Los_Angeles
X-WR-CALNAME:Don't Buy It - BUILD IT! Santa's Workshop Membership starts Black Friday, November 27
BEGIN:VEVENT
URL;VALUE=URI:http://www.cdaonline.com/cda-events-calendar/events/index.php?com=detail&eID=1281
DTSTART:20151127T130000
DTEND:20151127T170000
SUMMARY:Don't Buy It - BUILD IT! Santa's Workshop Membership starts Black Friday\, November 27
DESCRIPTION: Don't stand in lines on Black Friday.  Come to Gizmo and use our collection of tools and mentors to build amazing gifts and confidence!  SANTA'S WORKSHOP'S special membership gets you intro and access to our great tools on Black Friday and then Saturdays and Sundays from then to Christmas. Shop Safety - November 27 or Saturday November 28    1:00 pmBuild times Saturdays and Sundays through December 18 10:00 – 5:00pm On Going $30 individual / $40 family Shop Safety - November 27 or Saturday November 28    1:00 pmBuild times Saturdays and Sundays through December 18 10:00 – 5:00pm \n______________________________\nThis Event Downloaded From a Helios Calendar Powered Site
LOCATION:Gizmo-CdA - 806 N 4th St \, Coeur d'Alene\, ID USA 83814
CATEGORIES:Coeur d'Alene, Idaho - Events Calendar Events
PRIORITY:0
TRANSP:TRANSPARENT
END:VEVENT
END:VCALENDAR