BEGIN:VCALENDAR
VERSION:2.0
METHOD:PUBLISH
CALSCALE:GREGORIAN
PRODID:-//Refresh Web Development//Helios Calendar//EN
X-FROM-URL:http://www.cdaonline.com/cda-events-calendar/events/index.php?com=details&eID=1869
X-WR-RELCALID:Coeur d'Alene, Idaho - Events Calendar Intro to CNC Plasma Cutting 20170314
X-WR-TIMEZONE:America/Los_Angeles
X-WR-CALNAME:Intro to CNC Plasma Cutting
BEGIN:VEVENT
URL;VALUE=URI:http://www.cdaonline.com/cda-events-calendar/events/index.php?com=detail&eID=1869
DTSTART;VALUE=DATE:20170314
DTEND;VALUE=DATE:20170315
SUMMARY:Intro to CNC Plasma Cutting
DESCRIPTION:Intro to CNC Plasma CuttingUsing CAD software this one day class will give you a basic understanding on how to run a CNC Plasma Cutter and how to design projects for the machine.  It will allow you to see what is possible.  Bring your imagination Tuesday March 14th1 session$30 non-members$28.50 members \n______________________________\nThis Event Downloaded From a Helios Calendar Powered Site
LOCATION:Gizmo-CdA - 806 N 4th St \, Coeur d'Alene\, ID USA 83814
CATEGORIES:Coeur d'Alene, Idaho - Events Calendar Events
PRIORITY:0
TRANSP:TRANSPARENT
END:VEVENT
END:VCALENDAR