BEGIN:VCALENDAR
VERSION:1.0
METHOD:PUBLISH
CALSCALE:GREGORIAN
PRODID:-//Refresh Web Development//Helios Calendar//EN
X-FROM-URL:http://www.cdaonline.com/cda-events-calendar/events/index.php?com=details&eID=1103
X-WR-RELCALID:Coeur d'Alene, Idaho - Events Calendar Bike MS: Cycle the Silver Valley 20150919T070000
X-WR-TIMEZONE:America/Los_Angeles
BEGIN:VEVENT
URL;VALUE=URI:http://www.cdaonline.com/cda-events-calendar/events/index.php?com=detail&eID=1103
DTSTART;TZID="America/Los_Angeles":20150919T070000-0700
DTEND;TZID="America/Los_Angeles":20150919T193000-0700
SUMMARY:Bike MS: Cycle the Silver Valley
DESCRIPTION:Bike MS: Cycle the Silver Valley\, comes to the Spokane and Northern Idaho region\, on Saturday and Sunday\, September 19 and 20. Beginning at Silver Mountain Lodge in Kellogg\, Idaho\, Bike MS takes cyclists on a two-day journey through the ancestral lands of the Coeur d'Alene nation in the Idaho panhandle on a "Rails to Trails" path almost completely off roadways. Full meals\, generous amenities\, stunning landscapes\, fully stocked rest stops and spirited festivities are all included. A $75 registration fee and a minimum of $250 in fundraising are required to participate. Funds support research\, programs and services for nearly 15\,000 people living with multiple sclerosis across the Northwest. For more information or to register\, go to www.bikeMS.org or call the National Multiple Sclerosis Society\, Greater Northwest Chapter at 509-482-2022.\n______________________________\nThis Event Downloaded From a Helios Calendar Powered Site
LOCATION:Silver Mountain Resort - 610 Bunker Ave \,  Kellogg\, ID USA 83837
CATEGORIES:Coeur d'Alene, Idaho - Events Calendar Events
PRIORITY:0
TRANSP:TRANSPARENT
END:VEVENT
END:VCALENDAR