BEGIN:VCALENDAR
VERSION:1.0
METHOD:PUBLISH
CALSCALE:GREGORIAN
PRODID:-//Refresh Web Development//Helios Calendar//EN
X-FROM-URL:http://www.cdaonline.com/cda-events-calendar/events/index.php?com=details&eID=1176
X-WR-RELCALID:Coeur d'Alene, Idaho - Events Calendar Hi Tech/Low Tech Games.   20150731T093000
X-WR-TIMEZONE:America/Los_Angeles
BEGIN:VEVENT
URL;VALUE=URI:http://www.cdaonline.com/cda-events-calendar/events/index.php?com=detail&eID=1176
DTSTART;TZID="America/Los_Angeles":20150731T093000-0700
DTEND;TZID="America/Los_Angeles":20150731T150000-0700
SUMMARY:Hi Tech/Low Tech Games.  
DESCRIPTION:Build   games your way with cardboard\, metal\, wood and light.Daily July 27 - 31\,  9:30 am - 3:00 pm\,  1st - 6th grade\,  $160\n______________________________\nThis Event Downloaded From a Helios Calendar Powered Site
LOCATION:Gizmo-CdA - 806 N. 4th St. \, Coeur d'Alene\, ID USA 83814
CATEGORIES:Coeur d'Alene, Idaho - Events Calendar Events
PRIORITY:0
TRANSP:TRANSPARENT
END:VEVENT
END:VCALENDAR