BEGIN:VCALENDAR
VERSION:1.0
METHOD:PUBLISH
CALSCALE:GREGORIAN
PRODID:-//Refresh Web Development//Helios Calendar//EN
X-FROM-URL:http://www.cdaonline.com/cda-events-calendar/events/index.php?com=details&eID=1180
X-WR-RELCALID:Coeur d'Alene, Idaho - Events Calendar Raspberry Pi Pt 2 (Girls Only!) 20150806T093000
X-WR-TIMEZONE:America/Los_Angeles
BEGIN:VEVENT
URL;VALUE=URI:http://www.cdaonline.com/cda-events-calendar/events/index.php?com=detail&eID=1180
DTSTART;TZID="America/Los_Angeles":20150806T093000-0700
DTEND;TZID="America/Los_Angeles":20150806T150000-0700
SUMMARY:Raspberry Pi Pt 2 (Girls Only!)
DESCRIPTION:Raspberry   Pi Part 2.                                             Work with public artist Teresa McHugh in the Welding and Wood shop to   make a kinetic public art piece which will be unique and program the lights   and movement with a Raspberry PiDaily August 3-7\,  9:30 am - 3:00 pm\,  6th grade and older\,  $160\n______________________________\nThis Event Downloaded From a Helios Calendar Powered Site
LOCATION:Gizmo-CdA - 806 N. 4th St. \, Coeur d'Alene\, ID USA 83814
CATEGORIES:Coeur d'Alene, Idaho - Events Calendar Events
PRIORITY:0
TRANSP:TRANSPARENT
END:VEVENT
END:VCALENDAR