BEGIN:VCALENDAR
VERSION:1.0
METHOD:PUBLISH
CALSCALE:GREGORIAN
PRODID:-//Refresh Web Development//Helios Calendar//EN
X-FROM-URL:http://www.cdaonline.com/cda-events-calendar/events/index.php?com=details&eID=1187
X-WR-RELCALID:Coeur d'Alene, Idaho - Events Calendar Purposeful 3D Printing 20150810T093000
X-WR-TIMEZONE:America/Los_Angeles
BEGIN:VEVENT
URL;VALUE=URI:http://www.cdaonline.com/cda-events-calendar/events/index.php?com=detail&eID=1187
DTSTART;TZID="America/Los_Angeles":20150810T093000-0700
DTEND;TZID="America/Los_Angeles":20150810T150000-0700
SUMMARY:Purposeful 3D Printing
DESCRIPTION:Learn to   use the tools for 3D Printing by making prosthetic hands for children.  From your hands to theirsDaily Aug 10-14\,  9:30 am - 3:00 pm\,  5th grade and older\,  $160\n______________________________\nThis Event Downloaded From a Helios Calendar Powered Site
LOCATION:Gizmo-CdA - 806 N. 4th St. \, Coeur d'Alene\, ID USA 83814
CATEGORIES:Coeur d'Alene, Idaho - Events Calendar Events
PRIORITY:0
TRANSP:TRANSPARENT
END:VEVENT
END:VCALENDAR