BEGIN:VCALENDAR
VERSION:1.0
METHOD:PUBLISH
CALSCALE:GREGORIAN
PRODID:-//Refresh Web Development//Helios Calendar//EN
X-FROM-URL:http://www.cdaonline.com/cda-events-calendar/events/index.php?com=details&eID=1196
X-WR-RELCALID:Coeur d'Alene, Idaho - Events Calendar Minds-I Robotics 20150814T093000
X-WR-TIMEZONE:America/Los_Angeles
BEGIN:VEVENT
URL;VALUE=URI:http://www.cdaonline.com/cda-events-calendar/events/index.php?com=detail&eID=1196
DTSTART;TZID="America/Los_Angeles":20150814T093000-0700
DTEND;TZID="America/Los_Angeles":20150814T150000-0700
SUMMARY:Minds-I Robotics
DESCRIPTION:Unlock   the power of your mind with this revolutionary robotics system.  Simple construction leads to amazing Robots   powered by your skill and an ArduinoDaily Aug 10-14\,  9:30 am - 3:00 pm\,  7th grade and older\,  $160\n______________________________\nThis Event Downloaded From a Helios Calendar Powered Site
LOCATION:Gizmo-CdA - 806 N. 4th St. \, Coeur d'Alene\, ID USA 83814
CATEGORIES:Coeur d'Alene, Idaho - Events Calendar Events
PRIORITY:0
TRANSP:TRANSPARENT
END:VEVENT
END:VCALENDAR