BEGIN:VCALENDAR
VERSION:1.0
METHOD:PUBLISH
CALSCALE:GREGORIAN
PRODID:-//Refresh Web Development//Helios Calendar//EN
X-FROM-URL:http://www.cdaonline.com/cda-events-calendar/events/index.php?com=details&eID=1204
X-WR-RELCALID:Coeur d'Alene, Idaho - Events Calendar Rigamaijigs:building for the young engineer 20150821T093000
X-WR-TIMEZONE:America/Los_Angeles
BEGIN:VEVENT
URL;VALUE=URI:http://www.cdaonline.com/cda-events-calendar/events/index.php?com=detail&eID=1204
DTSTART;TZID="America/Los_Angeles":20150821T093000-0700
DTEND;TZID="America/Los_Angeles":20150821T123000-0700
SUMMARY:Rigamaijigs:building for the young engineer
DESCRIPTION:Think giant wooden erector set.  Meant for small hands and big imaginations.1st - 4th grade\, 9:30 am - 12:30 pm\, Aug 17-21\, $80\n______________________________\nThis Event Downloaded From a Helios Calendar Powered Site
LOCATION:Gizmo-CdA - 806 N. 4th St. \, Coeur d'Alene\, ID USA 83814
CATEGORIES:Coeur d'Alene, Idaho - Events Calendar Events
PRIORITY:0
TRANSP:TRANSPARENT
END:VEVENT
END:VCALENDAR