BEGIN:VCALENDAR
VERSION:1.0
METHOD:PUBLISH
CALSCALE:GREGORIAN
PRODID:-//Refresh Web Development//Helios Calendar//EN
X-FROM-URL:http://www.cdaonline.com/cda-events-calendar/events/index.php?com=details&eID=1214
X-WR-RELCALID:Coeur d'Alene, Idaho - Events Calendar Fall Great Outdoor Days 20150815T080000
X-WR-TIMEZONE:America/Los_Angeles
BEGIN:VEVENT
URL;VALUE=URI:http://www.cdaonline.com/cda-events-calendar/events/index.php?com=detail&eID=1214
DTSTART;TZID="America/Los_Angeles":20150815T080000-0700
DTEND;TZID="America/Los_Angeles":20150815T170000-0700
SUMMARY:Fall Great Outdoor Days
DESCRIPTION:Free Activities for the Whole Family both days:11 a.m.: Elk Camp Set-UpNoon: Field Dressing Start to Finish - Idaho Fish & Game1 p.m.: Coumbia River Salmon Fishing Techniques2 p.m.: Next Generation Archeryand more!\n______________________________\nThis Event Downloaded From a Helios Calendar Powered Site
LOCATION:Cabela's - 101 North Cabela Way \, Post Falls\, ID US 83854
CATEGORIES:Coeur d'Alene, Idaho - Events Calendar Events
PRIORITY:0
TRANSP:TRANSPARENT
END:VEVENT
END:VCALENDAR