BEGIN:VCALENDAR
VERSION:1.0
METHOD:PUBLISH
CALSCALE:GREGORIAN
PRODID:-//Refresh Web Development//Helios Calendar//EN
X-FROM-URL:http://www.cdaonline.com/cda-events-calendar/events/index.php?com=details&eID=1224
X-WR-RELCALID:Coeur d'Alene, Idaho - Events Calendar Spokane Symphony SuperPops: The Spy Who Loved Me with Sheena Easton 20151003T200000
X-WR-TIMEZONE:America/Los_Angeles
BEGIN:VEVENT
URL;VALUE=URI:http://www.cdaonline.com/cda-events-calendar/events/index.php?com=detail&eID=1224
DTSTART;TZID="America/Los_Angeles":20151003T200000-0700
DTEND;TZID="America/Los_Angeles":20151003T200000-0700
SUMMARY:Spokane Symphony SuperPops: The Spy Who Loved Me with Sheena Easton
DESCRIPTION:The Spokane Symphony opens its SuperPops series with two-time Grammy Award-winning Sheena Easton and popular cabaret and musical theatre tenor\, Scott Coulter. The evening's program will combine solos and duets\, along with the orchestra\, performing themes from classic espionage films such as Austin Powers\, Pink Panther\, Get Smart\, 007 and Mission Impossible. Prepare to be shaken and stirred.\n______________________________\nThis Event Downloaded From a Helios Calendar Powered Site
LOCATION:Martin Woldson Theater at the Fox - 1001 W Sprague Ave \, Spokane\, WA USA 99201
CATEGORIES:Coeur d'Alene, Idaho - Events Calendar Events
PRIORITY:0
TRANSP:TRANSPARENT
END:VEVENT
END:VCALENDAR