BEGIN:VCALENDAR
VERSION:1.0
METHOD:PUBLISH
CALSCALE:GREGORIAN
PRODID:-//Refresh Web Development//Helios Calendar//EN
X-FROM-URL:http://www.cdaonline.com/cda-events-calendar/events/index.php?com=details&eID=1225
X-WR-RELCALID:Coeur d'Alene, Idaho - Events Calendar Spokane Symphony Classics: American Wonders 20151010T200000
X-WR-TIMEZONE:America/Los_Angeles
BEGIN:VEVENT
URL;VALUE=URI:http://www.cdaonline.com/cda-events-calendar/events/index.php?com=detail&eID=1225
DTSTART;TZID="America/Los_Angeles":20151010T200000-0700
DTEND;TZID="America/Los_Angeles":20151010T200000-0700
SUMMARY:Spokane Symphony Classics: American Wonders
DESCRIPTION:Explore the exuberance of American classical music\, from William Schuman's spirited American Festival Overture\, to Ferde Grofe's tone poem inspired by the soaring gradeur of one of America's natural wonders\, to George Gershwin's iconic Rhapsody in Blue. Grofe orchestrated Gershwin's jazz-infused masterpiece that has become one of the most popular of American concert pieces. Igor Stravinsky's piano concerto\, writtent the same year\, combines the percussiveness of the piano with the sonority of a wind orchestra with electrifying effect. It is the perfect vehicle to showcase the artistry of pianist Andreas Boyde.Tickets may be purchased with personalized service at the Box Office of Martin Woldson Theater at The Fox\, 1001 West Sprague Avenue\, or by calling 509-624-1200. They are also available online and at all TicketsWest outlets.\n______________________________\nThis Event Downloaded From a Helios Calendar Powered Site
LOCATION:Martin Woldson Theater at the Fox - 1001 W Sprague Ave \, Spokane\, WA USA 99201
CATEGORIES:Coeur d'Alene, Idaho - Events Calendar Events
PRIORITY:0
TRANSP:TRANSPARENT
END:VEVENT
END:VCALENDAR