BEGIN:VCALENDAR
VERSION:1.0
METHOD:PUBLISH
CALSCALE:GREGORIAN
PRODID:-//Refresh Web Development//Helios Calendar//EN
X-FROM-URL:http://www.cdaonline.com/cda-events-calendar/events/index.php?com=details&eID=1230
X-WR-RELCALID:Coeur d'Alene, Idaho - Events Calendar Over-eaters Anonymous Workshop 20151114T090000
X-WR-TIMEZONE:America/Los_Angeles
BEGIN:VEVENT
URL;VALUE=URI:http://www.cdaonline.com/cda-events-calendar/events/index.php?com=detail&eID=1230
DTSTART;TZID="America/Los_Angeles":20151114T090000-0700
DTEND;TZID="America/Los_Angeles":20151114T120000-0700
SUMMARY:Over-eaters Anonymous Workshop
DESCRIPTION:Over-eaters Anonymous Workshop: Using Your Holiday Tool Kit to Maximize Results!Don't let the holiday stress drive you to over indulge - Stop compulsively overeating by using the nine tools of O.A. This 3 hour workshop will have a Sponsor Panel QnA\, two presenters\, a group discussion\, music\, gift give-a-ways and real world tips on keeping balanced eating habits.Saturday\, November 14th: Spokane Valley Hospital\, Davis Room\, 9am til noon\, free! Reserve your seat today\, Jan D. @ 208-704-4167\, or jd@jdcoms.com\n______________________________\nThis Event Downloaded From a Helios Calendar Powered Site
LOCATION:Spokane Valley Hospital - 12606 E. Mission Avenue \, Spokane Valey\, WA USA 
CATEGORIES:Coeur d'Alene, Idaho - Events Calendar Events
PRIORITY:0
TRANSP:TRANSPARENT
END:VEVENT
END:VCALENDAR