BEGIN:VCALENDAR
VERSION:1.0
METHOD:PUBLISH
CALSCALE:GREGORIAN
PRODID:-//Refresh Web Development//Helios Calendar//EN
X-FROM-URL:http://www.cdaonline.com/cda-events-calendar/events/index.php?com=details&eID=1278
X-WR-RELCALID:Coeur d'Alene, Idaho - Events Calendar Photography for Children - Wednesday November 18 thru December 9 20151118T160000
X-WR-TIMEZONE:America/Los_Angeles
BEGIN:VEVENT
URL;VALUE=URI:http://www.cdaonline.com/cda-events-calendar/events/index.php?com=detail&eID=1278
DTSTART;TZID="America/Los_Angeles":20151118T160000-0700
DTEND;TZID="America/Los_Angeles":20151118T173000-0700
SUMMARY:Photography for Children - Wednesday November 18 thru December 9
DESCRIPTION: Children have a unique way of seeing the world.  Let them have a chance to show you.  They will learn the basics of taking photos and be able to print their work on all kinds of materials on Gizmo's UV printer.   Check out for the camera if needed will require a $10 deposit due the first day of class.  Will be returned at the end of the class. 4 weeks  - 1st thru 4th gradesWednesday Nov 18th through Dec 9th     4:00 - 5:30pm  $50 non-members$42.50 members \n______________________________\nThis Event Downloaded From a Helios Calendar Powered Site
LOCATION:Gizmo-CdA - 806 N 4th St \, Coeur d'Alene\, ID USA 83814
CATEGORIES:Coeur d'Alene, Idaho - Events Calendar Events
PRIORITY:0
TRANSP:TRANSPARENT
END:VEVENT
END:VCALENDAR