BEGIN:VCALENDAR
VERSION:1.0
METHOD:PUBLISH
CALSCALE:GREGORIAN
PRODID:-//Refresh Web Development//Helios Calendar//EN
X-FROM-URL:http://www.cdaonline.com/cda-events-calendar/events/index.php?com=details&eID=1280
X-WR-RELCALID:Coeur d'Alene, Idaho - Events Calendar CNC Router - 1 Day Class, Tuesday, November 24 or December 15 20151124T180000
X-WR-TIMEZONE:America/Los_Angeles
BEGIN:VEVENT
URL;VALUE=URI:http://www.cdaonline.com/cda-events-calendar/events/index.php?com=detail&eID=1280
DTSTART;TZID="America/Los_Angeles":20151124T180000-0700
DTEND;TZID="America/Los_Angeles":20151124T210000-0700
SUMMARY:CNC Router - 1 Day Class\, Tuesday\, November 24 or December 15
DESCRIPTION: This one day class will give you a basic understanding of CAD-CAM software on use of the CNC Router.  It will allow you to see what is possible.   Design and make a personal sign to take with you.1 DayTuesday November 24th or December 15$30 Non-member &#8203\;$25.50 Member  \n______________________________\nThis Event Downloaded From a Helios Calendar Powered Site
LOCATION:Gizmo-CdA -  \, Coeur d'Alene\, ID USA 83814
CATEGORIES:Coeur d'Alene, Idaho - Events Calendar Events
PRIORITY:0
TRANSP:TRANSPARENT
END:VEVENT
END:VCALENDAR