BEGIN:VCALENDAR
VERSION:1.0
METHOD:PUBLISH
CALSCALE:GREGORIAN
PRODID:-//Refresh Web Development//Helios Calendar//EN
X-FROM-URL:http://www.cdaonline.com/cda-events-calendar/events/index.php?com=details&eID=1282
X-WR-RELCALID:Coeur d'Alene, Idaho - Events Calendar Spokane Symphony SuperPops: A Tribute to the Boston Pops  20151114T200000
X-WR-TIMEZONE:America/Los_Angeles
BEGIN:VEVENT
URL;VALUE=URI:http://www.cdaonline.com/cda-events-calendar/events/index.php?com=detail&eID=1282
DTSTART;TZID="America/Los_Angeles":20151114T200000-0700
DTEND;TZID="America/Los_Angeles":20151114T220000-0700
SUMMARY:Spokane Symphony SuperPops: A Tribute to the Boston Pops 
DESCRIPTION:The Boston Pops and its legendary conductor Arthur Fiedler became household names during the long running PBS series Evening at the Pops. Now Assistant Conductor Jorge Luis Uzcátegui recreates the magic with the Spokane Symphony at Martin Woldson Theater at The Fox. The crowd-pleasing program of light classics\, popular tunes and Movie hits include Mozart's Overture to The Marriage of Figaro\, Copeland's "Hoe Down" from Rodeo\, Scott Joplin's "The Entertainer" and John Williams' "Adventures on Earth" from E.T. Of course\, no Fiedler concert would be complete without a novelty tune from Leroy Anderson: The Typewriter. Tickets may be purchased with personalized service at the Box Office of Martin Woldson Theater at The Fox\, 1001 West Sprague Avenue\, or by calling 509-624-1200. They are also available online and at all TicketsWest outlets.\n______________________________\nThis Event Downloaded From a Helios Calendar Powered Site
LOCATION:Martin Woldson Theater at the Fox - 1001 W Sprague Ave \, Spokane\, WA United States 99201
CATEGORIES:Coeur d'Alene, Idaho - Events Calendar Events
PRIORITY:0
TRANSP:TRANSPARENT
END:VEVENT
END:VCALENDAR