BEGIN:VCALENDAR
VERSION:1.0
METHOD:PUBLISH
CALSCALE:GREGORIAN
PRODID:-//Refresh Web Development//Helios Calendar//EN
X-FROM-URL:http://www.cdaonline.com/cda-events-calendar/events/index.php?com=details&eID=1284
X-WR-RELCALID:Coeur d'Alene, Idaho - Events Calendar Spokane Symphony Classics: La Bohème 20151121T200000
X-WR-TIMEZONE:America/Los_Angeles
BEGIN:VEVENT
URL;VALUE=URI:http://www.cdaonline.com/cda-events-calendar/events/index.php?com=detail&eID=1284
DTSTART;TZID="America/Los_Angeles":20151121T200000-0700
DTEND;TZID="America/Los_Angeles":20151121T220000-0700
SUMMARY:Spokane Symphony Classics: La Bohème
DESCRIPTION:Music Director Eckart Preu and the Spokane Symphony are thrilled to present a semi-staged version of one of the greatest operas of all time - Puccini's La Bohème - in collaboration with Opera Coeur d'Alene and the Spokane Symphony Chorale. This deliciously tragic tale is set in the counter-culture world of Bohemian Paris\, and deals with real people facing real issues. Giacomo Puccini's miraculous melodies will touch our hearts and open us to the things that haunt us all: the delights of love\, the fleeting nature of youth\, and our own mortality. Creative staging is by Aaron St. Clair Nicholson.Tickets may be purchased with personalized service at the Box Office of Martin Woldson Theater at The Fox\, 1001 West Sprague Avenue\, or by calling 509-624-1200. They are also available online and at all TicketsWest outlets.\n______________________________\nThis Event Downloaded From a Helios Calendar Powered Site
LOCATION:Martin Woldson Theater at the Fox - 1001 W Sprague Ave \, Spokane\, WA USA 99201
CATEGORIES:Coeur d'Alene, Idaho - Events Calendar Events
PRIORITY:0
TRANSP:TRANSPARENT
END:VEVENT
END:VCALENDAR