BEGIN:VCALENDAR
VERSION:1.0
METHOD:PUBLISH
CALSCALE:GREGORIAN
PRODID:-//Refresh Web Development//Helios Calendar//EN
X-FROM-URL:http://www.cdaonline.com/cda-events-calendar/events/index.php?com=details&eID=1622
X-WR-RELCALID:Coeur d'Alene, Idaho - Events Calendar Viking River Cruises 20160816
X-WR-TIMEZONE:America/Los_Angeles
BEGIN:VEVENT
URL;VALUE=URI:http://www.cdaonline.com/cda-events-calendar/events/index.php?com=detail&eID=1622
DTSTART:20160816T000000-0700
DTEND:20160817T000000-0700
SUMMARY:Viking River Cruises
DESCRIPTION:Join AAA Travel for an informative presentation that explores the exciting world of Viking Cruises.  Discover inspiring destinations\, luxurious ships\, fine cuisine\, expert tour guides\, remarkable value\, and personal attention to every detail.\n______________________________\nThis Event Downloaded From a Helios Calendar Powered Site
LOCATION:AAA Coeur d'Alene - 296 W. Sunset Ave.\, Suite 33 \, Coeur d'Alene\, ID USA 83815
CATEGORIES:Coeur d'Alene, Idaho - Events Calendar Events
PRIORITY:0
TRANSP:TRANSPARENT
END:VEVENT
END:VCALENDAR